0.1
0
0
-0.1
579079.266932383
4749157.27291957
