0.1
0
0
-0.1
578235.302698174
4748569.23965356
