0.1
0
0
-0.1
580801.015622437
4747442.15288661
