0.1
0
0
-0.1
625653.775604975
4714563.64584386
