0.1
0
0
-0.1
626508.759944537
4714579.23424975
