0.1
0
0
-0.1
556378.880513333
4716543.47395421
