0.1
0
0
-0.1
578506.258299914
4724857.06714781
