0.1
0
0
-0.1
580220.155961335
4724298.29666024
