0.1
0
0
-0.1
581094.209741697
4722573.4254604
