0.1
0
0
-0.1
579393.117876802
4721975.11432509
