0.1
0
0
-0.1
618046.960674487
4758975.09105943
