0.1
0
0
-0.1
618946.75381189
4756098.0063337
