0.1
0
0
-0.1
616466.22948282
4752005.47881475
