0.1
0
0
-0.1
617336.36501396
4750863.27362494
