0.1
0
0
-0.1
619077.494208918
4748579.32471187
