0.1
0
0
-0.1
615694.068937617
4747364.28439911
