0.1
0
0
-0.1
615703.832339742
4746785.92511707
