0.1
0
0
-0.1
616574.450747862
4745643.52990246
