0.1
0
0
-0.1
614901.320200015
4743879.83370124
