0.1
0
0
-0.1
615752.628351621
4743894.15367449
