0.1
0
0
-0.1
621413.962627456
4760769.75382479
