0.1
0
0
-0.1
620585.133839243
4759597.87251366
