0.1
0
0
-0.1
620605.558555035
4758441.13907805
