0.1
0
0
-0.1
621537.328804425
4753829.39108723
