0.1
0
0
-0.1
621557.875397649
4752672.67160303
