0.1
0
0
-0.1
574800.886771602
4751422.98486622
