0.1
0
0
-0.1
574813.58581549
4750266.26547215
