0.1
0
0
-0.1
576495.009984735
4752020.04907696
