0.1
0
0
-0.1
577358.38158011
4750873.00280452
