0.1
0
0
-0.1
577351.81688152
4751451.36304456
