0.1
0
0
-0.1
576507.999120398
4750863.32934762
