0.1
0
0
-0.1
599628.176706
4740169.92458231
