0.1
0
0
-0.1
598784.759379998
4739579.36890756
