0.1
0
0
-0.1
563881.957579914
4736852.11942406
