0.1
0
0
-0.1
655660.400969189
4749312.7485018
