0.1
0
0
-0.1
608017.894466677
4748395.93210167
