0.1
0
0
-0.1
608868.633025659
4748409.40782846
