0.1
0
0
-0.1
608896.219166671
4746674.32984212
