0.1
0
0
-0.1
608905.414880347
4746095.96984231
