0.1
0
0
-0.1
612300.023390698
4746729.28294683
