0.1
0
0
-0.1
614001.925378392
4746757.29078259
