0.1
0
0
-0.1
609774.963365729
4744952.72742372
