0.1
0
0
-0.1
610635.460639789
4744388.06095874
