0.1
0
0
-0.1
613189.162036075
4744429.75775253
