0.1
0
0
-0.1
590476.744250839
4657332.28502422
