0.1
0
0
-0.1
593062.51035328
4657366.04896569
