0.1
0
0
-0.1
593070.137571598
4656787.78031076
