0.1
0
0
-0.1
594794.119677851
4656810.64161866
