0.1
0
0
-0.1
596963.597342819
4686916.47563321
