0.1
0
0
-0.1
596971.629545167
4686338.18603389
